BEGIN:VCALENDAR
VERSION:2.0
PRODID:-//eventon.com NONSGML v1.0//EN
CALSCALE:GREGORIAN
METHOD:PUBLISH
BEGIN:VEVENT
UID:69e64841123bd
DTSTAMP:20260420T153737Z
DTSTART:20260430T143000Z
DTEND:20260430T160000Z
LOCATION:Schulungsräume Bühl Eisenbahnstr. 34\,  77815 Bühl
SUMMARY:Kinder- und Jugendtrauergruppe
DESCRIPTION:Wir bitten um telefonische Anmeldung unter: 07223-991750 0 oder
  0155-60114002 DU BIST NICHT ALLEIN Du hast jemanden verloren\,  den du lie
 b hast und weißt manchmal nicht\,  wohin mit deinen Gefühlen oder Gedanke
 n? In unserer Trauergruppe: darfst du reden &#8211; musst aber nicht triffs
 t du andere\,  denen es ähnlich geht bekommst[..]\nhttps://www.pallium-car
 e.com/termine/kinder-und-jugendtrauergruppe-2/
URL:https://www.pallium-care.com/termine/kinder-und-jugendtrauergruppe-2/
END:VEVENT
END:VCALENDAR