BEGIN:VCALENDAR
VERSION:2.0
PRODID:-//eventon.com NONSGML v1.0//EN
CALSCALE:GREGORIAN
METHOD:PUBLISH
BEGIN:VEVENT
UID:69e75006e6619
DTSTAMP:20260421T102302Z
DTSTART:20250123T130000Z
DTEND:20250123T160000Z
LOCATION:Schulungsräume Sasbach-Obersasbach Schulstr. 17\,  77880 Sasbach (>Link-PDF-Parken)
SUMMARY:"Ein langer Abschied" - Die Begleitung von Menschen mit Demenz Teil 2
DESCRIPTION:Dieser Kurs möchte pflegenden Angehörigen für Laienan 4 Term
 inen verständlich Wissen über Demenzerkrankung vermitteln sowie Verständ
 nis und Zugangswege für die Lebenswelt der demenzerkrankten Menschen öffn
 en. Auch die Begleitung in der letzten Lebensphase wird dabei beleuchtet. T
 hemen: Grundwissen Demenzerkrankung Kommunikation mit dem an Demenz erkrank
 ten Menschen Leben in Balance: die Begleitung[..]\nhttps://www.pallium-care
 .com/termine/ein-langer-abschied-die-begleitung-von-menschen-mit-demenz-tei
 l-2-2/
URL:https://www.pallium-care.com/termine/ein-langer-abschied-die-begleitung-von-menschen-mit-demenz-teil-2-2/
END:VEVENT
END:VCALENDAR