BEGIN:VCALENDAR
VERSION:2.0
PRODID:-//eventon.com NONSGML v1.0//EN
CALSCALE:GREGORIAN
METHOD:PUBLISH
BEGIN:VEVENT
UID:69e89ff5adfe0
DTSTAMP:20260422T101621Z
DTSTART:20250514T160000Z
DTEND:20250514T180000Z
LOCATION:Schulungsräume Sasbach-Obersasbach Schulstr. 17\,  77880 Sasbach (>Link-PDF-Parken)
SUMMARY:Patientenverfügung und andere Vorsorgedokumente
DESCRIPTION:Viele Menschen sind unsicher\,  was die persönliche Vorsorge b
 etrifft. In unserer Infoveranstaltung soll ein Überblick über die verschi
 edenen Vorsorgedokumente geschaffen werden. Die Teilnehmer sollen einen Ein
 blick erhalten\,  welche Optionen es gibt\,  um ihre persönlichen Wünsche
  für den Zeitpunkt\,  zu dem man sich nicht mehr selbst äußern kann\,  f
 estzulegen.\nhttps://www.pallium-care.com/termine/patientenverfuegung-und-a
 ndere-vorsorgedokumente-29/
URL:https://www.pallium-care.com/termine/patientenverfuegung-und-andere-vorsorgedokumente-29/
END:VEVENT
END:VCALENDAR