BEGIN:VCALENDAR
VERSION:2.0
PRODID:-//eventon.com NONSGML v1.0//EN
CALSCALE:GREGORIAN
METHOD:PUBLISH
BEGIN:VEVENT
UID:69e648696a49a
DTSTAMP:20260420T153817Z
DTSTART:20260414T130000Z
DTEND:20260414T150000Z
LOCATION:Schulungsräume Bühl Eisenbahnstr. 34\,  77815 Bühl
SUMMARY:Patientenverfügung und andere Vorsorgedokumente
DESCRIPTION:Viele Menschen sind unsicher\,  was die persönliche Vorsorge b
 etrifft. In unserer Infoveranstaltung soll ein Überblick über die verschi
 edenen Vorsorgedokumente geschaffen werden. Die Teilnehmer sollen einen Ein
 blick erhalten\,  welche Optionen es gibt\,  um ihre persönlichen Wünsche
  für den Zeitpunkt\,  zu dem man sich nicht mehr selbst äußern kann\,  f
 estzulegen.\nhttps://www.pallium-care.com/termine/patientenverfuegung-und-a
 ndere-vorsorgedokumente-49/
URL:https://www.pallium-care.com/termine/patientenverfuegung-und-andere-vorsorgedokumente-49/
END:VEVENT
END:VCALENDAR